BEGIN:VCALENDAR
VERSION:2.0
PRODID:-//economix.liguria.it - ECPv6.13.2.1//NONSGML v1.0//EN
CALSCALE:GREGORIAN
METHOD:PUBLISH
X-WR-CALNAME:economix.liguria.it
X-ORIGINAL-URL:https://economix.liguria.it
X-WR-CALDESC:Eventi per economix.liguria.it
REFRESH-INTERVAL;VALUE=DURATION:PT1H
X-Robots-Tag:noindex
X-PUBLISHED-TTL:PT1H
BEGIN:VTIMEZONE
TZID:UTC
BEGIN:STANDARD
TZOFFSETFROM:+0000
TZOFFSETTO:+0000
TZNAME:UTC
DTSTART:20240101T000000
END:STANDARD
END:VTIMEZONE
BEGIN:VEVENT
DTSTART;VALUE=DATE:20241017
DTEND;VALUE=DATE:20241129
DTSTAMP:20260422T033452
CREATED:20241126T122141Z
LAST-MODIFIED:20250327T105550Z
UID:10000008-1729152000-1732795200@economix.liguria.it
SUMMARY:Corso gratuito Its Costruttori
DESCRIPTION:Accademia Italiana della Marina Mercantile organizza il Corso gratuito Its Costruttori – Tecnico superiore per l’efficientamento\, la produzione e la manutenzione di mezzi di trasporto e delle relative infrastrutture.  \nInformazioni generali:\nIl corso\, della durata biennale\, è totalmente gratuito e ha come obiettivo la formazione di una figura professionale specializzata nelle fasi di produzione e manutenzione\, in particolare nell’ambito della cantieristica navale e delle riparazioni navali\, attraverso la collaborazione con Fincantieri S.p.A. \nIl corso è destinato a 22 partecipanti\, che devono soddisfare i seguenti requisiti: \n\n\nEtà compresa tra i 18 e i 30 anni alla scadenza del Bando \n\n\nCittadini dell’Unione Europea o cittadini di Paesi extra UE in possesso di regolare permesso di soggiorno \n\n\nDiploma di scuola secondaria di secondo grado \n\n\nDestinatari del corso:Il corso è rivolto a giovani motivati a diventare tecnici superiori nell’efficientamento e nella manutenzione dei mezzi di trasporto\, con particolare attenzione alla produzione e gestione degli impianti di bordo. \nPercorso formativo:Il percorso formativo ha una durata biennale e prevede un totale di 2.000 ore\, suddivise in: \n\n\n1.000 ore di moduli didattici \n\n\n1.000 ore di stage \n\n\nLa prima annualità prevede: \n\n\n600 ore di aula \n\n\n400 ore di stage \n\n\nLa seconda annualità prevede: \n\n\n400 ore di aula \n\n\n600 ore di stage
URL:https://economix.liguria.it/corso/corso-its-costruttori-a-cura-di-accademia-fondazione-accademia-italiana-marina-mercantile/
LOCATION:Accademia Italiana della Marina Mercantile\, Via Oderico\, 10\, Genova\, 16145\, Italy
CATEGORIES:Nautica
ATTACH;FMTTYPE=image/jpeg:https://economix.liguria.it/wp-content/uploads/2024/11/464217220_958395589648331_6763640903384839642_n.jpg
ORGANIZER;CN="Accademia Italiana della Marina Mercantile":MAILTO:info@faimm.it
END:VEVENT
BEGIN:VEVENT
DTSTART;VALUE=DATE:20241023
DTEND;VALUE=DATE:20241210
DTSTAMP:20260422T033452
CREATED:20241126T124734Z
LAST-MODIFIED:20250327T105522Z
UID:10000011-1729670400-1733745600@economix.liguria.it
SUMMARY:Corso gratuito Its ufficiale di macchina
DESCRIPTION:Accademia Italiana della Marina Mercantile organizza il Corso gratuito Its ufficiale di macchina.  \nInformazioni generali:\nIl corso\, della durata triennale\, è totalmente gratuito e rivolto a giovani interessati a intraprendere la carriera a bordo delle navi della Marina Mercantile come Allievi/e Ufficiali di Macchina. \nI candidati devono essere in possesso di: \n\n\nDiploma di maturità a indirizzo nautico (sezione Macchina) o professionale-marittimo \n\n\nOppure diploma di qualunque indirizzo integrato dal modulo di Ex Allineamento (D.M. 30/11/2007) \n\n\nOppure il percorso formativo previsto per gli Allievi/e di Macchina di cui alla Sezione A-III/1 del codice STCW (D.M. 19/12/2016) \n\n\nDestinatari del corso:Il corso è rivolto a chi desidera acquisire le competenze necessarie per la gestione e manutenzione dei sistemi di propulsione e generazione dell’energia a bordo. \nIl corso\, di durata triennale è totalmente gratuito\, e rivolto a giovani che vogliono intraprendere la carriera a bordo delle navi della Marina Mercantile come Allievi/e Ufficiali di Macchina. Quest’ultimi devono essere in possesso dello specifico diploma di maturità a indirizzo nautico (sezione Macchina)\, o professionale-marittimo\, o diploma di qualunque indirizzo integrato dal modulo di Ex Allineamento di cui al decreto 30/11/2007 o dal previsto percorso formativo per gli Allievi/e di Macchina di cui alla Sezione A-III/1 del codice STCW (Decreto MIT 19 dicembre 2016). \nPercorso formativo:Il programma prevede: \n\n\n12 mesi di Training on Board\, con affiancamento agli ufficiali per lo svolgimento dei servizi a bordo di navi con apparato motore principale di potenza pari o superiore a 750 KW (Pax Cruises\, Ro-Ro Pax\, Carico\, Offshore) \n\n\nAcquisizione delle certificazioni STCW previste dalla normativa vigente per l’iscrizione all’esame finale \n\n\n5 moduli d’aula\, con docenti e professionisti del settore\, per sviluppare competenze tecniche e operative
URL:https://economix.liguria.it/corso/corso-its-ufficiale-di-macchina-a-cura-di-fondazione-accademia-italiana-marina-mercantile/
LOCATION:Accademia Italiana della Marina Mercantile\, Via Oderico\, 10\, Genova\, 16145\, Italy
CATEGORIES:Nautica
ATTACH;FMTTYPE=image/jpeg:https://economix.liguria.it/wp-content/uploads/2024/11/461514730_940226198131937_1308769278706486028_n.jpg
ORGANIZER;CN="Accademia Italiana della Marina Mercantile":MAILTO:info@faimm.it
END:VEVENT
BEGIN:VEVENT
DTSTART;VALUE=DATE:20241023
DTEND;VALUE=DATE:20241210
DTSTAMP:20260422T033452
CREATED:20241126T125116Z
LAST-MODIFIED:20250327T105515Z
UID:10000012-1729670400-1733763600@economix.liguria.it
SUMMARY:Corso gratuito Its Ufficiale di Coperta
DESCRIPTION:Accademia Italiana della Marina Mercantile organizza il Corso gratuito Its Ufficiale di Coperta.  \nInformazioni generali:\nIl corso\, della durata triennale\, è totalmente gratuito e rivolto a giovani interessati a intraprendere la carriera a bordo delle navi della Marina Mercantile come Allievi/e Ufficiali di Coperta. \nI candidati devono essere in possesso di: \n\n\nDiploma di maturità a indirizzo nautico\, professionale-marittimo o di altro indirizzo integrato dal modulo di Ex Allineamento (D.M. 30/11/2007) \n\n\nOppure il previsto percorso formativo per gli Allievi/e di Coperta di cui alla Sezione A-II/1 del codice STCW (D.M. 19/12/2016) \n\n\nDestinatari del corso:Il corso è rivolto a chi desidera acquisire le competenze necessarie per la gestione della navigazione e della sicurezza a bordo\, in linea con le esigenze del settore marittimo. \nPercorso formativo:Il programma prevede: \n\n\n12 mesi di Training on Board\, con affiancamento agli ufficiali per lo svolgimento dei servizi a bordo di navi con stazza lorda pari o superiore a 500 GT (Pax Cruises\, Ro-Ro Pax\, Carico\, Offshore) \n\n\nAcquisizione delle certificazioni STCW previste dalla normativa vigente per l’iscrizione all’esame finale \n\n\n5 moduli d’aula\, con docenti e professionisti del settore\, per sviluppare competenze tecniche e operative
URL:https://economix.liguria.it/corso/corso-its-ufficiale-di-coperta-a-cura-di-fondazione-accademia-italiana-marina-mercantile/
LOCATION:Accademia Italiana della Marina Mercantile\, Via Oderico\, 10\, Genova\, 16145\, Italy
CATEGORIES:Nautica
ATTACH;FMTTYPE=image/jpeg:https://economix.liguria.it/wp-content/uploads/2024/11/467024401_976117881209435_423991458727772433_n.jpg
ORGANIZER;CN="Accademia Italiana della Marina Mercantile":MAILTO:info@faimm.it
END:VEVENT
BEGIN:VEVENT
DTSTART;VALUE=DATE:20241030
DTEND;VALUE=DATE:20250116
DTSTAMP:20260422T033452
CREATED:20241115T104031Z
LAST-MODIFIED:20250327T114018Z
UID:10000004-1730275200-1736982000@economix.liguria.it
SUMMARY:Corso gratuito di Disegnatore Navale 2D/3D
DESCRIPTION:Forma Mentis organizza il Corso gratuito di Disegnatore Navale 2D/3D.  \nInformazioni generali:\nIl corso di Disegnatore Navale 2D/3D ha l’obiettivo di formare figure professionali qualificate nel settore della progettazione navale e meccanica\, con un focus particolare sul disegno tecnico e l’automazione digitale. Al termine del corso\, gli allievi conseguono la qualifica Profilo DGR. 2409/97 per la figura professionale di Disegnatore Nautico e Navale\, con il codice ISTAT Disegnatori Tecnici – 3.1.3.7.1\, appartenente alla classificazione Meccanica\, Produzione e Manutenzione di Macchine\, Impiantistica. \nIl corso prevede una garanzia occupazionale del 60% per i partecipanti formati\, come stabilito negli accordi sottoscritti con le aziende aderenti e le parti sociali. \nDestinatari:Il corso è rivolto a 8 partecipanti maggiorenni disoccupati o inattivi\, con priorità per i residenti e/o domiciliati in Liguria\, che abbiano assolto l’obbligo di istruzione. Non ci sono limiti di età. \nUn 20% dei posti è riservato alle donne\, salvo che gli esiti delle prove selettive non consentano di raggiungere tale quota. \nProgramma formativo:\nIl corso mira a formare professionisti specializzati nella progettazione navale e meccanica\, con particolare attenzione all’uso di software CAD e alla modellazione 3D. Il percorso formativo comprende 420 ore di attività\, suddivise tra formazione in aula e tirocinio aziendale\, strutturato come segue: \n\n\nFormazione in aula (420 ore): Il corso comprende moduli su sicurezza nei luoghi di lavoro\, disegno tecnico\, progettazione dello scafo\, progettazione di impianti e modellazione 3D. \n\n\nModulo 1: Sicurezza nei luoghi di lavoro (12 ore) \n\n\nModulo 2: Introduzione al disegno tecnico (148 ore) \n\n\nModulo 3: Progettazione dello scafo (130 ore) \n\n\nModulo 4: Progettazione impianti (50 ore) \n\n\nModulo 5: Smart 3D (40 ore) \n\n\nModulo 6: Progetto di sollevamento (40 ore) \n\n\n\n\nTirocinio aziendale (180 ore): Gli studenti completeranno il percorso con uno stage presso le aziende aderenti\, dove metteranno in pratica le competenze acquisite in aula. \n\n\nIl corso prevede una frequenza settimanale di 40 ore\, sia in aula che in azienda. Inoltre\, è possibile svolgere fino al 50% della formazione a distanza (FAD). Al termine del percorso\, i partecipanti acquisiranno competenze avanzate nel campo del disegno tecnico navale\, della progettazione strutturale e della gestione impiantistica\, con una preparazione mirata a garantire rapida occupabilità nel settore nautico e meccatronico. \n 
URL:https://economix.liguria.it/corso/corso-di-disegnatore-navale-2d-3d-iscrizioni-aperte/
LOCATION:Forma Mentis\, Via Ceccardi 1/10\, Genova\, 16121\, Italy
CATEGORIES:Nautica
ATTACH;FMTTYPE=image/jpeg:https://economix.liguria.it/wp-content/uploads/2024/11/graphic-designer-1288477_1280.jpg
ORGANIZER;CN="Forma Mentis":MAILTO:info@formamentis.net
END:VEVENT
END:VCALENDAR